BEGIN:VCALENDAR
VERSION:2.0
PRODID:-//Coalition Against Global Genocide - ECPv6.15.20//NONSGML v1.0//EN
CALSCALE:GREGORIAN
METHOD:PUBLISH
X-WR-CALNAME:Coalition Against Global Genocide
X-ORIGINAL-URL:https://coagg.org
X-WR-CALDESC:Events for Coalition Against Global Genocide
REFRESH-INTERVAL;VALUE=DURATION:PT1H
X-Robots-Tag:noindex
X-PUBLISHED-TTL:PT1H
BEGIN:VTIMEZONE
TZID:UTC
BEGIN:STANDARD
TZOFFSETFROM:+0000
TZOFFSETTO:+0000
TZNAME:UTC
DTSTART:20250101T000000
END:STANDARD
END:VTIMEZONE
BEGIN:VEVENT
DTSTART;TZID=UTC:20260424T000000
DTEND;TZID=UTC:20260426T235959
DTSTAMP:20260423T172853
CREATED:20260415T204705Z
LAST-MODIFIED:20260415T204705Z
UID:47988-1776988800-1777247999@coagg.org
SUMMARY:Sermon Weekend 2026
DESCRIPTION:coagg-sermon-weekend-flyer-final-2026 (1)
URL:https://coagg.org/event/sermon-weekend-2026/
END:VEVENT
END:VCALENDAR